BEGIN:VCALENDAR
VERSION:2.0
PRODID:-//Miami Brewing Company - ECPv6.15.18//NONSGML v1.0//EN
CALSCALE:GREGORIAN
METHOD:PUBLISH
X-ORIGINAL-URL:https://miamibrewing.com
X-WR-CALDESC:Events for Miami Brewing Company
REFRESH-INTERVAL;VALUE=DURATION:PT1H
X-Robots-Tag:noindex
X-PUBLISHED-TTL:PT1H
BEGIN:VTIMEZONE
TZID:America/New_York
BEGIN:DAYLIGHT
TZOFFSETFROM:-0500
TZOFFSETTO:-0400
TZNAME:EDT
DTSTART:20250309T070000
END:DAYLIGHT
BEGIN:STANDARD
TZOFFSETFROM:-0400
TZOFFSETTO:-0500
TZNAME:EST
DTSTART:20251102T060000
END:STANDARD
BEGIN:DAYLIGHT
TZOFFSETFROM:-0500
TZOFFSETTO:-0400
TZNAME:EDT
DTSTART:20260308T070000
END:DAYLIGHT
BEGIN:STANDARD
TZOFFSETFROM:-0400
TZOFFSETTO:-0500
TZNAME:EST
DTSTART:20261101T060000
END:STANDARD
BEGIN:DAYLIGHT
TZOFFSETFROM:-0500
TZOFFSETTO:-0400
TZNAME:EDT
DTSTART:20270314T070000
END:DAYLIGHT
BEGIN:STANDARD
TZOFFSETFROM:-0400
TZOFFSETTO:-0500
TZNAME:EST
DTSTART:20271107T060000
END:STANDARD
END:VTIMEZONE
BEGIN:VEVENT
DTSTART;TZID=America/New_York:20260605T200000
DTEND;TZID=America/New_York:20260605T235900
DTSTAMP:20260419T111136
CREATED:20260311T215643Z
LAST-MODIFIED:20260311T215643Z
UID:13657-1780689600-1780703940@miamibrewing.com
SUMMARY:Country Line Dancing
DESCRIPTION:  \n  \n  \n  \nEvery Friday night\, the Miami Brewing Company turns into the ultimate country party! 🎶💃\nJoin us for Friday Country Night\, where families\, friends\, and country music lovers come together for line dancing\, cold craft beer\, and good vibes all around.\nIt’s fun for all ages — whether you’re two-steppin’\, singing along\, or just enjoying the atmosphere\, there’s no better way to kick off the weekend. \n🎟 Tickets: $10 (21+) | $15 (Under 21) \n📅 Every Friday | Starts at 8PM \nYou can also book a beer flight ticket! https://bit.ly/3SXVIsD
URL:https://miamibrewing.com/event/country-line-dancing-0506/
CATEGORIES:Events
ATTACH;FMTTYPE=image/jpeg:https://miamibrewing.com/wp-content/uploads/2022/05/WhatsApp-Image-2026-03-11-at-4.37.43-PM.jpeg
END:VEVENT
BEGIN:VEVENT
DTSTART;TZID=America/New_York:20260612T200000
DTEND;TZID=America/New_York:20260612T235900
DTSTAMP:20260419T111136
CREATED:20260311T215659Z
LAST-MODIFIED:20260311T215659Z
UID:13658-1781294400-1781308740@miamibrewing.com
SUMMARY:Country Line Dancing
DESCRIPTION:  \n  \n  \n  \nEvery Friday night\, the Miami Brewing Company turns into the ultimate country party! 🎶💃\nJoin us for Friday Country Night\, where families\, friends\, and country music lovers come together for line dancing\, cold craft beer\, and good vibes all around.\nIt’s fun for all ages — whether you’re two-steppin’\, singing along\, or just enjoying the atmosphere\, there’s no better way to kick off the weekend. \n🎟 Tickets: $10 (21+) | $15 (Under 21) \n📅 Every Friday | Starts at 8PM \nYou can also book a beer flight ticket! https://bit.ly/3SXVIsD
URL:https://miamibrewing.com/event/country-line-dancing-1206/
CATEGORIES:Events
ATTACH;FMTTYPE=image/jpeg:https://miamibrewing.com/wp-content/uploads/2022/05/WhatsApp-Image-2026-03-11-at-4.37.43-PM.jpeg
END:VEVENT
BEGIN:VEVENT
DTSTART;TZID=America/New_York:20260619T200000
DTEND;TZID=America/New_York:20260619T235900
DTSTAMP:20260419T111136
CREATED:20260311T215717Z
LAST-MODIFIED:20260311T215717Z
UID:13659-1781899200-1781913540@miamibrewing.com
SUMMARY:Country Line Dancing
DESCRIPTION:  \n  \n  \n  \nEvery Friday night\, the Miami Brewing Company turns into the ultimate country party! 🎶💃\nJoin us for Friday Country Night\, where families\, friends\, and country music lovers come together for line dancing\, cold craft beer\, and good vibes all around.\nIt’s fun for all ages — whether you’re two-steppin’\, singing along\, or just enjoying the atmosphere\, there’s no better way to kick off the weekend. \n🎟 Tickets: $10 (21+) | $15 (Under 21) \n📅 Every Friday | Starts at 8PM \nYou can also book a beer flight ticket! https://bit.ly/3SXVIsD
URL:https://miamibrewing.com/event/country-line-dancing-1906/
CATEGORIES:Events
ATTACH;FMTTYPE=image/jpeg:https://miamibrewing.com/wp-content/uploads/2022/05/WhatsApp-Image-2026-03-11-at-4.37.43-PM.jpeg
END:VEVENT
BEGIN:VEVENT
DTSTART;TZID=America/New_York:20260626T200000
DTEND;TZID=America/New_York:20260626T235900
DTSTAMP:20260419T111136
CREATED:20260311T215735Z
LAST-MODIFIED:20260311T215735Z
UID:13660-1782504000-1782518340@miamibrewing.com
SUMMARY:Country Line Dancing
DESCRIPTION:  \n  \n  \n  \nEvery Friday night\, the Miami Brewing Company turns into the ultimate country party! 🎶💃\nJoin us for Friday Country Night\, where families\, friends\, and country music lovers come together for line dancing\, cold craft beer\, and good vibes all around.\nIt’s fun for all ages — whether you’re two-steppin’\, singing along\, or just enjoying the atmosphere\, there’s no better way to kick off the weekend. \n🎟 Tickets: $10 (21+) | $15 (Under 21) \n📅 Every Friday | Starts at 8PM \nYou can also book a beer flight ticket! https://bit.ly/3SXVIsD
URL:https://miamibrewing.com/event/country-line-dancing-2606/
CATEGORIES:Events
ATTACH;FMTTYPE=image/jpeg:https://miamibrewing.com/wp-content/uploads/2022/05/WhatsApp-Image-2026-03-11-at-4.37.43-PM.jpeg
END:VEVENT
END:VCALENDAR